BEGIN:VCALENDAR
VERSION:2.0
PRODID:-//ChamberMaster//Event Calendar 2.0//EN
METHOD:PUBLISH
X-PUBLISHED-TTL:P3D
REFRESH-INTERVAL:P3D
CALSCALE:GREGORIAN
BEGIN:VEVENT
DTSTART:20190323T140000Z
DTEND:20190323T150000Z
X-MICROSOFT-CDO-ALLDAYEVENT:FALSE
SUMMARY:Paint a Snail Bank
DESCRIPTION:Paint a bank to take home. Grades K to 6 Open to the first 24 attendees.
X-ALT-DESC;FMTTYPE=text/html:Paint a bank to take home. Grades K to 6 Open to the first 24 attendees.
LOCATION:Granville Public Library
UID:e.180.12509
SEQUENCE:3
DTSTAMP:20260420T050703Z
URL:http://business.granvilleoh.com/events/details/paint-a-snail-bank-12509
END:VEVENT

END:VCALENDAR
