BEGIN:VCALENDAR
VERSION:2.0
PRODID:-//ChamberMaster//Event Calendar 2.0//EN
METHOD:PUBLISH
X-PUBLISHED-TTL:P3D
REFRESH-INTERVAL:P3D
CALSCALE:GREGORIAN
BEGIN:VEVENT
DTSTART:20190427T180000Z
DTEND:20190427T190000Z
X-MICROSOFT-CDO-ALLDAYEVENT:FALSE
SUMMARY:Paint an Umbrella
DESCRIPTION:Paint an umbrella to take home. For grades k-6. Open to the first 24 attendees.
X-ALT-DESC;FMTTYPE=text/html:Paint an umbrella to take home. For grades k-6. Open to the first 24 attendees.
LOCATION:Granville Public LIbrary
UID:e.180.12567
SEQUENCE:3
DTSTAMP:20260420T050631Z
URL:http://business.granvilleoh.com/events/details/paint-an-umbrella-12567
END:VEVENT

END:VCALENDAR
