BEGIN:VCALENDAR
VERSION:2.0
PRODID:-//ChamberMaster//Event Calendar 2.0//EN
METHOD:PUBLISH
X-PUBLISHED-TTL:P3D
REFRESH-INTERVAL:P3D
CALSCALE:GREGORIAN
BEGIN:VEVENT
DTSTART:20181110T150000Z
DTEND:20181110T153000Z
X-MICROSOFT-CDO-ALLDAYEVENT:FALSE
SUMMARY:Parachute Play for Preschoolers
DESCRIPTION:Get moving and laughing with a variety of parachute games. Ages 3 to 5. (Older siblings welcome)
X-ALT-DESC;FMTTYPE=text/html:Get moving and laughing with a variety of parachute games. Ages 3 to 5. (Older siblings welcome)
LOCATION:Granville Public Library
UID:e.180.12229
SEQUENCE:3
DTSTAMP:20260419T222753Z
URL:http://business.granvilleoh.com/events/details/parachute-play-for-preschoolers-12229
END:VEVENT

END:VCALENDAR
