BEGIN:VCALENDAR
VERSION:2.0
PRODID:-//ChamberMaster//Event Calendar 2.0//EN
METHOD:PUBLISH
X-PUBLISHED-TTL:P3D
REFRESH-INTERVAL:P3D
CALSCALE:GREGORIAN
BEGIN:VEVENT
DTSTART:20180623T220000Z
DTEND:20180624T020000Z
X-MICROSOFT-CDO-ALLDAYEVENT:FALSE
SUMMARY:Party in the Bark Park
DESCRIPTION:Please join us in the Licking County Humane Society Bark Park for an evening of summer fun for a great cause! Sadly\, there are many shelters all over the country that choose to euthanize animals instead of providing needed medical treatment. At the Licking County Humane Society\, we save lives. A big part of our mission is to provide the medical treatment needed to give Licking County's homeless and abused animals the life they deserve. As a non-profit\, no-kill shelter\, we depend on the generosity of our community to continue that mission. Please purchase a ticket\, kick back and enjoy a delicious brew in our park\, and join us in this life-saving mission! - Delicious eats from SteamRoller Bagel & Village Taco - Live music from The Bug Hounds - Beer for sale from BrewDog - Wine for sale from Autumn Rush Vineyard - Kissing Booth and a chance to meet and greet with LCHS dogs - Lawn game fun! Cornhole\, bocce\, and giant Jenga!
X-ALT-DESC;FMTTYPE=text/html:Please join us in the Licking County Humane Society Bark Park for an evening of summer fun for a great cause! Sadly\, there are many shelters all over the country that choose to euthanize animals instead of providing needed medical treatment. At the Licking County Humane Society\, we save lives. A big part of our mission is to provide the medical treatment needed to give Licking County&rsquo\;s homeless and abused animals the life they deserve. As a non-profit\, no-kill shelter\, we depend on the generosity of our community to continue that mission. Please purchase a ticket\, kick back and enjoy a delicious brew in our park\, and join us in this life-saving mission! - Delicious eats from SteamRoller Bagel &amp\; Village Taco - Live music from The Bug Hounds - Beer for sale from BrewDog - Wine for sale from Autumn Rush Vineyard - Kissing Booth and a chance to meet and greet with LCHS dogs - Lawn game fun! Cornhole\, bocce\, and giant Jenga!
LOCATION:The Licking County Humane Society 825 Thornwood Drive Heath\, OH 43056
UID:e.180.11942
SEQUENCE:3
DTSTAMP:20260419T153333Z
URL:http://business.granvilleoh.com/events/details/party-in-the-bark-park-11942
END:VEVENT

END:VCALENDAR
