BEGIN:VCALENDAR
VERSION:2.0
PRODID:-//ChamberMaster//Event Calendar 2.0//EN
METHOD:PUBLISH
X-PUBLISHED-TTL:P3D
REFRESH-INTERVAL:P3D
CALSCALE:GREGORIAN
BEGIN:VEVENT
DTSTART:20180719T200000Z
DTEND:20180719T210000Z
X-MICROSOFT-CDO-ALLDAYEVENT:FALSE
SUMMARY:Paws to Read
DESCRIPTION:Kids all ages practice reading aloud to therapy dogs! Location: Children's Area
X-ALT-DESC;FMTTYPE=text/html:Kids all ages practice reading aloud to therapy dogs! Location: Children&#39\;s Area
LOCATION:Granville Public Library
UID:e.180.12062
SEQUENCE:3
DTSTAMP:20260419T182009Z
URL:http://business.granvilleoh.com/events/details/paws-to-read-07-19-2018-12062
END:VEVENT

END:VCALENDAR
