BEGIN:VCALENDAR
VERSION:2.0
PRODID:-//ChamberMaster//Event Calendar 2.0//EN
METHOD:PUBLISH
X-PUBLISHED-TTL:P3D
REFRESH-INTERVAL:P3D
CALSCALE:GREGORIAN
BEGIN:VEVENT
DTSTART:20180607T200000Z
DTEND:20180607T210000Z
X-MICROSOFT-CDO-ALLDAYEVENT:FALSE
SUMMARY:Paws to Read
DESCRIPTION:Kids all ages practice reading aloud to therapy dogs\, Poppy and Lucky.
X-ALT-DESC;FMTTYPE=text/html:Kids all ages practice reading aloud to therapy dogs\, Poppy and Lucky.
LOCATION:Granville Public Library
UID:e.180.12019
SEQUENCE:3
DTSTAMP:20260419T152930Z
URL:http://business.granvilleoh.com/events/details/paws-to-read-12019
END:VEVENT

END:VCALENDAR
