BEGIN:VCALENDAR
VERSION:2.0
PRODID:-//ChamberMaster//Event Calendar 2.0//EN
METHOD:PUBLISH
X-PUBLISHED-TTL:P3D
REFRESH-INTERVAL:P3D
CALSCALE:GREGORIAN
BEGIN:VEVENT
DTSTART:20190301T203000Z
DTEND:20190301T220000Z
X-MICROSOFT-CDO-ALLDAYEVENT:FALSE
SUMMARY:Philosophy Coffee Series: 'Who is Mentally Healthy?'
DESCRIPTION:Denison University's Department of Philosophy presents its Philosophy Coffee Series: ""Who is Mentally Healthy?"\nThere seems to be widespread disagreement about what the field of psychology can and should contribute to a collective conception of mental health.  While many people are diagnosed with mental illness\, there are few discussions about what constitutes mental health in general. These kinds of conversations seem to be lacking on college campuses\, schools\, and other social institutions. Why is it so much easier for us to define what mental illness is than to understand mental health? Mental health is often positioned as something we ought to strive for. What exactly is it that we are striving for?\n\nComplimentary coffee and snacks served.
X-ALT-DESC;FMTTYPE=text/html:<span style="background-color:transparent\; color:rgb(0\, 0\, 0)\; font-family:arial\; font-size:11pt">Denison University&rsquo\;s Department of Philosophy presents its Philosophy Coffee Series: &ldquo\;&quot\;Who is Mentally Healthy?&quot\;</span>\n<p><span style="background-color:transparent\; color:rgb(0\, 0\, 0)\; font-family:arial\; font-size:11pt">There</span><strong> </strong><span style="background-color:transparent\; color:rgb(0\, 0\, 0)\; font-family:arial\; font-size:11pt">seems to be widespread disagreement about what the field of psychology can and should contribute to a collective conception of mental health. &nbsp\;While many people are diagnosed with mental illness\, there are few discussions about what constitutes mental health in general. These kinds of conversations seem to be lacking on college campuses\, schools\, and other social institutions. Why is it so much easier for us to define what mental illness is than to understand mental health? Mental health is often positioned as something we ought to strive for. What exactly is it that we are striving for?</span></p>\n\n<p><span style="background-color:transparent\; color:rgb(0\, 0\, 0)\; font-family:arial\; font-size:11pt">Complimentary coffee and snacks served.</span></p>\n\n<div>&nbsp\;</div>\n\n<div>&nbsp\;</div>\n
LOCATION:Denison University Shepardson College Room of Slayter Hall 200 Ridge Road
UID:e.180.12515
SEQUENCE:3
DTSTAMP:20260420T035440Z
URL:http://business.granvilleoh.com/events/details/philosophy-coffee-series-who-is-mentally-healthy-12515
END:VEVENT

END:VCALENDAR
