BEGIN:VCALENDAR
VERSION:2.0
PRODID:-//ChamberMaster//Event Calendar 2.0//EN
METHOD:PUBLISH
X-PUBLISHED-TTL:P3D
REFRESH-INTERVAL:P3D
CALSCALE:GREGORIAN
BEGIN:VEVENT
DTSTART:20190222T223000Z
DTEND:20190223T000000Z
X-MICROSOFT-CDO-ALLDAYEVENT:FALSE
SUMMARY:Piece of the ACTion
DESCRIPTION:High Schoolers- want to have fun while prepping for the ACT exam? Join us for a night of games and friendly competition that gets you thinking.
X-ALT-DESC;FMTTYPE=text/html:High Schoolers- want to have fun while prepping for the ACT exam? Join us for a night of games and friendly competition that gets you thinking.
LOCATION:Granville Public Library
UID:e.180.12435
SEQUENCE:3
DTSTAMP:20260420T022852Z
URL:http://business.granvilleoh.com/events/details/piece-of-the-action-12435
END:VEVENT

END:VCALENDAR
