BEGIN:VCALENDAR
VERSION:2.0
PRODID:-//ChamberMaster//Event Calendar 2.0//EN
METHOD:PUBLISH
X-PUBLISHED-TTL:P3D
REFRESH-INTERVAL:P3D
CALSCALE:GREGORIAN
BEGIN:VEVENT
DTSTART:20180605T173000Z
DTEND:20180605T183000Z
X-MICROSOFT-CDO-ALLDAYEVENT:FALSE
SUMMARY:Plant a Garden
DESCRIPTION:Help fill the Granville Library Children's patio pots with flowers\, then help keep them watered all summer.
X-ALT-DESC;FMTTYPE=text/html:Help fill the Granville Library Children&rsquo\;s patio pots with flowers\, then help keep them watered all summer.
LOCATION:Granville Public Library
UID:e.180.11983
SEQUENCE:3
DTSTAMP:20260419T153301Z
URL:http://business.granvilleoh.com/events/details/plant-a-garden-11983
END:VEVENT

END:VCALENDAR
