BEGIN:VCALENDAR
VERSION:2.0
PRODID:-//ChamberMaster//Event Calendar 2.0//EN
METHOD:PUBLISH
X-PUBLISHED-TTL:P3D
REFRESH-INTERVAL:P3D
CALSCALE:GREGORIAN
BEGIN:VEVENT
DTSTART:20190620T230000Z
DTEND:20190621T003000Z
X-MICROSOFT-CDO-ALLDAYEVENT:FALSE
SUMMARY:Plant Responses to Fractional Gravity in Space
DESCRIPTION:How do plants sense gravity? How will plants grow on the Moon and Mars? Dr. Wolverton and his team\, with support from NASA\, carried out a series of experiments on the International Space Station to find answers to these questions. Chris Wolverton is Professor of Botany and Microbiology at Ohio Wesleyan University where he teaches courses in introductory cell biology\, genetics\, and plant physiology. His lab studies plant gravity perception and its influence on the control of differential growth and root system architecture in the model plant Arabidopsis thaliana.
X-ALT-DESC;FMTTYPE=text/html:How do plants sense gravity? How will plants grow on the Moon and Mars? Dr. Wolverton and his team\, with support from NASA\, carried out a series of experiments on the International Space Station to find answers to these questions. Chris Wolverton is Professor of Botany and Microbiology at Ohio Wesleyan University where he teaches courses in introductory cell biology\, genetics\, and plant physiology. His lab studies plant gravity perception and its influence on the control of differential growth and root system architecture in the model plant Arabidopsis thaliana.
LOCATION:Granville Public Library
UID:e.180.12680
SEQUENCE:3
DTSTAMP:20260422T085237Z
URL:http://business.granvilleoh.com/events/details/plant-responses-to-fractional-gravity-in-space-12680
END:VEVENT

END:VCALENDAR
