BEGIN:VCALENDAR
VERSION:2.0
PRODID:-//ChamberMaster//Event Calendar 2.0//EN
METHOD:PUBLISH
X-PUBLISHED-TTL:P3D
REFRESH-INTERVAL:P3D
CALSCALE:GREGORIAN
BEGIN:VEVENT
DTSTART:20190208T150000Z
DTEND:20190208T160000Z
X-MICROSOFT-CDO-ALLDAYEVENT:FALSE
SUMMARY:Play Date
DESCRIPTION:Bring your toddlers and preschoolers to the library to play and socialize during a special play session in the community room.
X-ALT-DESC;FMTTYPE=text/html:Bring your toddlers and preschoolers to the library to play and socialize during a special play session in the community room.
LOCATION:Granville Public Library
UID:e.180.12313
SEQUENCE:3
DTSTAMP:20260420T022551Z
URL:http://business.granvilleoh.com/events/details/play-date-02-08-2019-12313
END:VEVENT

END:VCALENDAR
