BEGIN:VCALENDAR
VERSION:2.0
PRODID:-//ChamberMaster//Event Calendar 2.0//EN
METHOD:PUBLISH
X-PUBLISHED-TTL:P3D
REFRESH-INTERVAL:P3D
CALSCALE:GREGORIAN
BEGIN:VEVENT
DTSTART:20190301T150000Z
DTEND:20190301T160000Z
X-MICROSOFT-CDO-ALLDAYEVENT:FALSE
SUMMARY:Play Date
DESCRIPTION:Come play and socialize at this special play session in our Community Room. (Toddlers and Preschoolers)
X-ALT-DESC;FMTTYPE=text/html:Come play and socialize at this special play session in our Community Room. (Toddlers and Preschoolers)
LOCATION:Granville Public Library
UID:e.180.12494
SEQUENCE:3
DTSTAMP:20260420T050750Z
URL:http://business.granvilleoh.com/events/details/play-date-03-01-2019-12494
END:VEVENT

END:VCALENDAR
