BEGIN:VCALENDAR
VERSION:2.0
PRODID:-//ChamberMaster//Event Calendar 2.0//EN
METHOD:PUBLISH
X-PUBLISHED-TTL:P3D
REFRESH-INTERVAL:P3D
CALSCALE:GREGORIAN
BEGIN:VEVENT
DTSTART:20190809T140000Z
DTEND:20190809T150000Z
X-MICROSOFT-CDO-ALLDAYEVENT:FALSE
SUMMARY:Play Date
DESCRIPTION:Bring your toddlers and preschoolers to play and socialize!
X-ALT-DESC;FMTTYPE=text/html:Bring your toddlers and preschoolers to play and socialize!
LOCATION:Granville Public Library
UID:e.180.12769
SEQUENCE:3
DTSTAMP:20260422T102559Z
URL:http://business.granvilleoh.com/events/details/play-date-08-09-2019-12769
END:VEVENT

END:VCALENDAR
