BEGIN:VCALENDAR
VERSION:2.0
PRODID:-//ChamberMaster//Event Calendar 2.0//EN
METHOD:PUBLISH
X-PUBLISHED-TTL:P3D
REFRESH-INTERVAL:P3D
CALSCALE:GREGORIAN
BEGIN:VEVENT
DTSTART:20191101T140000Z
DTEND:20191101T150000Z
X-MICROSOFT-CDO-ALLDAYEVENT:FALSE
SUMMARY:Play Date
DESCRIPTION:Bring your toddlers and preschoolers to play and socialize in our community room.
X-ALT-DESC;FMTTYPE=text/html:Bring your toddlers and preschoolers to play and socialize in our community room.
LOCATION:Granville Public Library
UID:e.180.12894
SEQUENCE:3
DTSTAMP:20260422T144043Z
URL:http://business.granvilleoh.com/events/details/play-date-11-01-2019-12894
END:VEVENT

END:VCALENDAR
