BEGIN:VCALENDAR
VERSION:2.0
PRODID:-//ChamberMaster//Event Calendar 2.0//EN
METHOD:PUBLISH
X-PUBLISHED-TTL:P3D
REFRESH-INTERVAL:P3D
CALSCALE:GREGORIAN
BEGIN:VEVENT
DTSTART:20190125T150000Z
DTEND:20190125T160000Z
X-MICROSOFT-CDO-ALLDAYEVENT:FALSE
SUMMARY:Preschool Science: Animals in Winter
DESCRIPTION:Through hands-on activities\, explore ways animals adapt for winter. Take home craft included. Preschoolers ages 3-5 years old welcome!
X-ALT-DESC;FMTTYPE=text/html:Through hands-on activities\, explore ways animals adapt for winter. Take home craft included. Preschoolers ages 3-5 years old welcome!
LOCATION:Granville Public Library
UID:e.180.12299
SEQUENCE:3
DTSTAMP:20260420T010241Z
URL:http://business.granvilleoh.com/events/details/preschool-science-animals-in-winter-12299
END:VEVENT

END:VCALENDAR
