BEGIN:VCALENDAR
VERSION:2.0
PRODID:-//ChamberMaster//Event Calendar 2.0//EN
METHOD:PUBLISH
X-PUBLISHED-TTL:P3D
REFRESH-INTERVAL:P3D
CALSCALE:GREGORIAN
BEGIN:VEVENT
DTSTART:20180607T140000Z
DTEND:20180607T143000Z
X-MICROSOFT-CDO-ALLDAYEVENT:FALSE
SUMMARY:Preschool Storytime
DESCRIPTION:Songs\, rhymes\, and stories for preschoolers. 3 to 5 years old Open music-play jam session: July 5 June 28 storytime will be held in the Children's Area instead of the Community Room. All other Preschool Times will be held in the Community Room.
X-ALT-DESC;FMTTYPE=text/html:Songs\, rhymes\, and stories for preschoolers. 3 to 5 years old Open music-play jam session: July 5 June 28 storytime will be held in the Children&#39\;s Area instead of the Community Room. All other Preschool Times will be held in the Community Room.
LOCATION:Granville Public Library
UID:e.180.12023
SEQUENCE:3
DTSTAMP:20260419T153302Z
URL:http://business.granvilleoh.com/events/details/preschool-storytime-12023
END:VEVENT

END:VCALENDAR
