BEGIN:VCALENDAR
VERSION:2.0
PRODID:-//ChamberMaster//Event Calendar 2.0//EN
METHOD:PUBLISH
X-PUBLISHED-TTL:P3D
REFRESH-INTERVAL:P3D
CALSCALE:GREGORIAN
BEGIN:VEVENT
DTSTART:20190307T150000Z
DTEND:20190307T153000Z
X-MICROSOFT-CDO-ALLDAYEVENT:FALSE
SUMMARY:Preschool Time
DESCRIPTION:Thursdays through May 9. Songs\, rhymes\, and stories for preschoolers. Open hour play sessions March 14 and April 18.
X-ALT-DESC;FMTTYPE=text/html:Thursdays through May 9. Songs\, rhymes\, and stories for preschoolers. Open hour play sessions March 14 and April 18.
LOCATION:Granville Public Library
UID:e.180.12500
SEQUENCE:3
DTSTAMP:20260420T050755Z
URL:http://business.granvilleoh.com/events/details/preschool-time-03-07-2019-12500
END:VEVENT

END:VCALENDAR
