BEGIN:VCALENDAR
VERSION:2.0
PRODID:-//ChamberMaster//Event Calendar 2.0//EN
METHOD:PUBLISH
X-PUBLISHED-TTL:P3D
REFRESH-INTERVAL:P3D
CALSCALE:GREGORIAN
BEGIN:VEVENT
DTSTART:20190606T140000Z
DTEND:20190606T143000Z
X-MICROSOFT-CDO-ALLDAYEVENT:FALSE
SUMMARY:Preschool Time
DESCRIPTION:Songs\, rhymes\, and stories for preschoolers ages 3-5 years. Library Closed: July 4 Session runs through July 25th.
X-ALT-DESC;FMTTYPE=text/html:Songs\, rhymes\, and stories for preschoolers ages 3-5 years. Library Closed: July 4 Session runs through July 25th.
LOCATION:Granville Public Library
UID:e.180.12657
SEQUENCE:3
DTSTAMP:20260420T121817Z
URL:http://business.granvilleoh.com/events/details/preschool-time-06-06-2019-12657
END:VEVENT

END:VCALENDAR
