BEGIN:VCALENDAR
VERSION:2.0
PRODID:-//ChamberMaster//Event Calendar 2.0//EN
METHOD:PUBLISH
X-PUBLISHED-TTL:P3D
REFRESH-INTERVAL:P3D
CALSCALE:GREGORIAN
BEGIN:VEVENT
DTSTART:20180712T140000Z
DTEND:20180712T143000Z
X-MICROSOFT-CDO-ALLDAYEVENT:FALSE
SUMMARY:Preschool Time
DESCRIPTION:Songs\, rhymes\, and stories for preschoolers. 3 to 5 years old
X-ALT-DESC;FMTTYPE=text/html:Songs\, rhymes\, and stories for preschoolers. 3 to 5 years old
LOCATION:Granville Public Library
UID:e.180.12047
SEQUENCE:3
DTSTAMP:20260419T170817Z
URL:http://business.granvilleoh.com/events/details/preschool-time-12047
END:VEVENT

END:VCALENDAR
