BEGIN:VCALENDAR
VERSION:2.0
PRODID:-//ChamberMaster//Event Calendar 2.0//EN
METHOD:PUBLISH
X-PUBLISHED-TTL:P3D
REFRESH-INTERVAL:P3D
CALSCALE:GREGORIAN
BEGIN:VEVENT
DTSTART:20190420T140000Z
DTEND:20190420T150000Z
X-MICROSOFT-CDO-ALLDAYEVENT:FALSE
SUMMARY:Pretend and Play: Earth Day Edition
DESCRIPTION:What can you make with recyclables? Kids and their adults build and make up stories together. Preschool to Grade 3
X-ALT-DESC;FMTTYPE=text/html:What can you make with recyclables? Kids and their adults build and make up stories together. Preschool to Grade 3
LOCATION:Granville Public Library
UID:e.180.12560
SEQUENCE:3
DTSTAMP:20260420T063852Z
URL:http://business.granvilleoh.com/events/details/pretend-and-play-earth-day-edition-12560
END:VEVENT

END:VCALENDAR
