BEGIN:VCALENDAR
VERSION:2.0
PRODID:-//ChamberMaster//Event Calendar 2.0//EN
METHOD:PUBLISH
X-PUBLISHED-TTL:P3D
REFRESH-INTERVAL:P3D
CALSCALE:GREGORIAN
BEGIN:VEVENT
DTSTART:20180518T000000Z
DTEND:20180518T020000Z
X-MICROSOFT-CDO-ALLDAYEVENT:FALSE
SUMMARY:Raise the Woof
DESCRIPTION:After 9 years of hard work\, Ike and Bear are retiring! The Newark Division of Police K-9 Unit is raising funds to purchase and train 2 new canine officers\, and the Licking County Humane Society wants to help! Join us for a night of comedy in The Ballroom at Thirty One West to raise money and help the Newark Police K-9 Unit reach their goal!
X-ALT-DESC;FMTTYPE=text/html:After 9 years of hard work\, Ike and Bear are retiring! The Newark Division of Police K-9 Unit is raising funds to purchase and train 2 new canine officers\, and the Licking County Humane Society wants to help! Join us for a night of comedy in The Ballroom at Thirty One West to raise money and help the Newark Police K-9 Unit reach their goal!
LOCATION:Thirty One West\, 31 W Church St\, Newark\, OH 43055
UID:e.180.11941
SEQUENCE:3
DTSTAMP:20260421T100806Z
URL:http://business.granvilleoh.com/events/details/raise-the-woof-11941
END:VEVENT

END:VCALENDAR
