BEGIN:VCALENDAR
VERSION:2.0
PRODID:-//ChamberMaster//Event Calendar 2.0//EN
METHOD:PUBLISH
X-PUBLISHED-TTL:P3D
REFRESH-INTERVAL:P3D
CALSCALE:GREGORIAN
BEGIN:VEVENT
DTSTART:20190723T190000Z
DTEND:20190723T201500Z
X-MICROSOFT-CDO-ALLDAYEVENT:FALSE
SUMMARY:Reach for the Stars! Hands-On Astronomy
DESCRIPTION:Ohio Nature Education presents hands-on discovery stations children can move through at their own pace\, or with parents or caregivers. Families
X-ALT-DESC;FMTTYPE=text/html:Ohio Nature Education presents hands-on discovery stations children can move through at their own pace\, or with parents or caregivers. Families
LOCATION:Granville Public Library
UID:e.180.12734
SEQUENCE:3
DTSTAMP:20260422T102852Z
URL:http://business.granvilleoh.com/events/details/reach-for-the-stars-hands-on-astronomy-12734
END:VEVENT

END:VCALENDAR
