BEGIN:VCALENDAR
VERSION:2.0
PRODID:-//ChamberMaster//Event Calendar 2.0//EN
METHOD:PUBLISH
X-PUBLISHED-TTL:P3D
REFRESH-INTERVAL:P3D
CALSCALE:GREGORIAN
BEGIN:VEVENT
DTSTART:20180719T233000Z
DTEND:20180719T233000Z
X-MICROSOFT-CDO-ALLDAYEVENT:FALSE
SUMMARY:‘Reason\, Science\, Humanism and Progress’
DESCRIPTION:Nestor Matthews\, professor of psychology and neuroscience\, presents a session of the Sigma Xi Science Cafe titled "Reason\, Science\, Humanism and Progress." The event will begin with a brief video entitled "The Case for Reason\, Science\, Humanism\, and Progress" by Harvard psychologist Steven Pinker. Following the video\, Matthews will facilitate a discussion.\n\nThe event is free and open to the public. Recommended for ages 10 and older.
X-ALT-DESC;FMTTYPE=text/html:<p style="margin: 1.5em 0px\; color: rgb(85\, 85\, 85)\; font-family: &quot\;Freight Sans Pro W00&quot\;\; font-size: 16px\; background-color: rgb(255\, 255\, 255)\;">Nestor Matthews\, professor of psychology and neuroscience\, presents a session of the Sigma Xi Science Cafe titled &ldquo\;Reason\, Science\, Humanism and Progress.&rdquo\; The event will begin with a brief video entitled &ldquo\;The Case for Reason\, Science\, Humanism\, and Progress&rdquo\; by Harvard psychologist Steven Pinker. Following the video\, Matthews will facilitate a&nbsp\;discussion.</p>\n\n<p style="margin: 1.5em 0px\; color: rgb(85\, 85\, 85)\; font-family: &quot\;Freight Sans Pro W00&quot\;\; font-size: 16px\; background-color: rgb(255\, 255\, 255)\;">The event is free and open to the public. Recommended for ages 10 and&nbsp\;older.</p>\n
LOCATION:Burton D. Morgan Center\, Room 115\, Denison University\, 150 Ridge Road\, Granville\, OH 43023
UID:e.180.12083
SEQUENCE:3
DTSTAMP:20260419T125315Z
URL:http://business.granvilleoh.com/events/details/reason-science-humanism-and-progress-12083
END:VEVENT

END:VCALENDAR
