BEGIN:VCALENDAR
VERSION:2.0
PRODID:-//ChamberMaster//Event Calendar 2.0//EN
METHOD:PUBLISH
X-PUBLISHED-TTL:P3D
REFRESH-INTERVAL:P3D
CALSCALE:GREGORIAN
BEGIN:VEVENT
DTSTART:20190227T213000Z
DTEND:20190227T233000Z
X-MICROSOFT-CDO-ALLDAYEVENT:FALSE
SUMMARY:Refugee Awareness Week Panel Discussion with Maya Arakon\, Özden Ocak and Charles Édouard St. Georges
DESCRIPTION:As part of Refugee Awareness Week\, Denison University presents a panel:\n\n\n	\n	\n		\n		4:30 p.m.: Maya Arakon will be talking about her personal experience as a political exile from Turkey and the effects of displacement.\n		\n		\n		5:30 p.m.: professors  zden Ocak and Charles  douard St. Georges from the International Studies and Modern Languages Department will offer a critical perspective on the historical background and implications of the European refugee crisis and the US economic and military intervention in Mexico and Latin America.
X-ALT-DESC;FMTTYPE=text/html:<p><span style="color:rgb(34\, 34\, 34)\; font-size:11pt">As part of Refugee Awareness Week\, Denison University presents a panel:</span></p>\n\n<ul>\n	<li>\n	<ul>\n		<li>\n		<p><span style="color:rgb(34\, 34\, 34)\; font-size:11pt">4:30 p.m.: Maya Arakon will be talking about her personal experience as a political exile from Turkey and the effects of displacement.</span></p>\n		</li>\n		<li>\n		<p><span style="color:rgb(34\, 34\, 34)\; font-size:11pt">5:30 p.m.: professors &Ouml\;zden Ocak and Charles &Eacute\;douard St. Georges from the International Studies and Modern Languages Department will offer a critical perspective on the historical background and implications of the European refugee crisis and the US economic and military intervention in Mexico and Latin America.</span></p>\n		</li>\n	</ul>\n	</li>\n</ul>\n
LOCATION:Denison University Higley Hall 100 Ridge Road
UID:e.180.12456
SEQUENCE:3
DTSTAMP:20260420T022712Z
URL:http://business.granvilleoh.com/events/details/refugee-awareness-week-panel-discussion-with-maya-arakon-&#246;zden-ocak-and-charles-&#233;douard-st-georges-12456
END:VEVENT

END:VCALENDAR
