BEGIN:VCALENDAR
VERSION:2.0
PRODID:-//ChamberMaster//Event Calendar 2.0//EN
METHOD:PUBLISH
X-PUBLISHED-TTL:P3D
REFRESH-INTERVAL:P3D
CALSCALE:GREGORIAN
BEGIN:VEVENT
DTSTART:20190226T233000Z
DTEND:20190227T023000Z
X-MICROSOFT-CDO-ALLDAYEVENT:FALSE
SUMMARY:Refugee Awareness Week presents "Anote's Ark" film screening
DESCRIPTION:Denison University presents a screening of the Climate Refugee Film "Anote's Ark" as part of Refugee Awareness Week and the 14th Human Rights Film Festival with with Denison Assistant Professor Can Dalyan.
X-ALT-DESC;FMTTYPE=text/html:<span style="color:rgb(0\, 0\, 0)\; font-family:arial\; font-size:11pt">Denison University presents a screening of the </span><span style="color:rgb(34\, 34\, 34)\; font-family:arial\; font-size:11pt">Climate Refugee Film </span><span style="color:rgb(0\, 0\, 0)\; font-family:arial\; font-size:11pt">&ldquo\;Anote&rsquo\;s Ark&rdquo\; as part of Refugee Awareness Week and the 14th Human Rights Film Festival with </span><span style="color:rgb(34\, 34\, 34)\; font-family:arial\; font-size:11pt">with Denison Assistant Professor Can Dalyan.</span>
LOCATION:Denison University Slayter Hall\, Auditorium 200 Ridge Road
UID:e.180.12455
SEQUENCE:3
DTSTAMP:20260420T022838Z
URL:http://business.granvilleoh.com/events/details/refugee-awareness-week-presents-anote-s-ark-film-screening-12455
END:VEVENT

END:VCALENDAR
