BEGIN:VCALENDAR
VERSION:2.0
PRODID:-//ChamberMaster//Event Calendar 2.0//EN
METHOD:PUBLISH
X-PUBLISHED-TTL:P3D
REFRESH-INTERVAL:P3D
CALSCALE:GREGORIAN
BEGIN:VEVENT
DTSTART:20190301T003000Z
DTEND:20190301T013000Z
X-MICROSOFT-CDO-ALLDAYEVENT:FALSE
SUMMARY:Refugee Awareness Week presents “Refugees of Denison: Hear their Stories”
DESCRIPTION:As part of Refugee Awareness Week\, Denison University presents a program titled "Refugees of Denison: Hear their Stories." Denison students and alumni share their stories of survival and the challenges they overcame rebuilding their lives in the U.S.
X-ALT-DESC;FMTTYPE=text/html:<p><span style="background-color:transparent\; color:rgb(0\, 0\, 0)\; font-family:arial\; font-size:11pt">As part of Refugee Awareness Week\, Denison University presents a program titled &ldquo\;Refugees of Denison: Hear their Stories.&rdquo\; Denison students and alumni share their stories of survival and the challenges they overcame rebuilding their lives in the U.S.</span></p>\n
LOCATION:Denison University William Howard Doane Library 400 West Loop
UID:e.180.12457
SEQUENCE:3
DTSTAMP:20260420T035415Z
URL:http://business.granvilleoh.com/events/details/refugee-awareness-week-presents-refugees-of-denison-hear-their-stories-12457
END:VEVENT

END:VCALENDAR
