BEGIN:VCALENDAR
VERSION:2.0
PRODID:-//ChamberMaster//Event Calendar 2.0//EN
METHOD:PUBLISH
X-PUBLISHED-TTL:P3D
REFRESH-INTERVAL:P3D
CALSCALE:GREGORIAN
BEGIN:VEVENT
DTSTART:20191022T223000Z
DTEND:20191022T233000Z
X-MICROSOFT-CDO-ALLDAYEVENT:FALSE
SUMMARY:Resident artists Stickrod + Kirwin: Introduction to the Hive
DESCRIPTION:This fall\, Licking County Ohio artist Michael Stickrod and Erin Kirwin\, a local naturopathic doctor\, will have a four month residency at Denison Art Space in Newark. Join Michael Stickrod and Erin Kirwin as they begin their residency with an Introduction to THE HIVE.\nStickrod + Kirwin will be collaborating on a large scale installation using materials from their Licking County home and environment\, as well as creating a bar to serve teas sourced from wild plants of the forests and pastures where they live with their two children. \n\nAs facilitators\, Stickrod + Kirwin will have open tea sessions throughout their residency at DASIN as a place to inspire dialogue with students and community. Stickrod + Kirwin will work with Denison faculty and students in Music\, Studio Art\, Biology\, Creative Writing\, Environmental Studies and Theatre classes as well as Wellness Center staff to create an interdisciplinary installation at Denison Art Space in Newark. Stickrod + Kirwin residency is made possible by Mellon's Arts Across the Curriculum grant at Denison University.\n\nStickrod + Kirwin Residency: Oct. 19 - Jan. 24\n\nOpen Community Tea Hours: Nov. 2\, 9 and 16 from 1 p.m. - 4 p.m.\n\nCommunity Luncheon: Dec. 12. 12 p.m. - 1:30 p.m.\n\nReception: Jan. 24. 5 p.m. - 7 p.m.\n\nArtist & Naturopath present: EVERY THURSDAY Nov. 1-Jan. 26 from 12 p.m. - 5:30 p.m.\n\nGallery Hours: Tuesday-Friday from 10 a.m. - 2 p.m.
X-ALT-DESC;FMTTYPE=text/html:<span style="background-color:transparent\; color:rgb(0\, 0\, 0)\; font-family:arial\; font-size:11pt">This fall\, Licking County Ohio artist Michael Stickrod and Erin Kirwin\, a local naturopathic doctor\, will have a four month residency at Denison Art Space in Newark. Join Michael Stickrod and Erin Kirwin as they begin their residency with an Introduction to THE HIVE.</span>\n<p><span style="background-color:transparent\; color:rgb(0\, 0\, 0)\; font-family:arial\; font-size:11pt">Stickrod + Kirwin will be collaborating on a large scale installation using materials from their Licking County home and environment\, as well as creating a bar to serve teas sourced from wild plants of the forests and pastures where they live with their two children.&nbsp\;</span></p>\n\n<p><span style="background-color:transparent\; color:rgb(0\, 0\, 0)\; font-family:arial\; font-size:11pt">As facilitators\, Stickrod + Kirwin will have open tea sessions throughout their residency at DASIN as a place to inspire dialogue with students and community. Stickrod + Kirwin will work with Denison faculty and students in Music\, Studio Art\, Biology\, Creative Writing\, Environmental Studies and Theatre classes as well as Wellness Center staff to create an interdisciplinary installation at Denison Art Space in Newark. Stickrod + Kirwin residency is made possible by Mellon&rsquo\;s Arts Across the Curriculum grant at Denison University.</span></p>\n\n<p><span style="background-color:transparent\; color:rgb(0\, 0\, 0)\; font-family:arial\; font-size:11pt">Stickrod + Kirwin Residency: Oct. 19 - Jan. 24</span></p>\n\n<p><span style="background-color:transparent\; color:rgb(0\, 0\, 0)\; font-family:arial\; font-size:11pt">Open Community Tea Hours: Nov. 2\, 9 and 16 from 1 p.m. - 4 p.m.</span></p>\n\n<p><span style="background-color:transparent\; color:rgb(0\, 0\, 0)\; font-family:arial\; font-size:11pt">Community Luncheon: Dec. 12. 12 p.m. - 1:30 p.m.</span></p>\n\n<p><span style="background-color:transparent\; color:rgb(0\, 0\, 0)\; font-family:arial\; font-size:11pt">Reception: Jan. 24. 5 p.m. - 7 p.m.</span></p>\n\n<p><span style="background-color:transparent\; color:rgb(0\, 0\, 0)\; font-family:arial\; font-size:11pt">Artist &amp\; Naturopath present: EVERY THURSDAY Nov. 1-Jan. 26 from 12 p.m. - 5:30 p.m.</span></p>\n\n<p><span style="background-color:transparent\; color:rgb(0\, 0\, 0)\; font-family:arial\; font-size:11pt">Gallery Hours: Tuesday-Friday from 10 a.m. - 2 p.m.</span></p>\n\n<div>&nbsp\;</div>\n
LOCATION:Denison University Knapp Performance Lab 300 Ridge Road
UID:e.180.13930
SEQUENCE:3
DTSTAMP:20260422T132223Z
URL:http://business.granvilleoh.com/events/details/resident-artists-stickrod-kirwin-introduction-to-the-hive-13930
END:VEVENT

END:VCALENDAR
