BEGIN:VCALENDAR
VERSION:2.0
PRODID:-//ChamberMaster//Event Calendar 2.0//EN
METHOD:PUBLISH
X-PUBLISHED-TTL:P3D
REFRESH-INTERVAL:P3D
CALSCALE:GREGORIAN
BEGIN:VEVENT
DTSTART:20180712T130000Z
DTEND:20180713T010000Z
X-MICROSOFT-CDO-ALLDAYEVENT:FALSE
SUMMARY:Rock-and-Read-a-Thon
DESCRIPTION:Grab something to read and help us keep the rock-n-read chair rocking for an entire day--9am to 9pm. Participants will be entered in a raffle to win a portable record player and a selection of records. All ages. Adults and teens welcome!
X-ALT-DESC;FMTTYPE=text/html:Grab something to read and help us keep the rock-n-read chair rocking for an entire day--9am to 9pm. Participants will be entered in a raffle to win a portable record player and a selection of records. All ages. Adults and teens welcome!
LOCATION:Granville Public Library
UID:e.180.12046
SEQUENCE:3
DTSTAMP:20260419T181942Z
URL:http://business.granvilleoh.com/events/details/rock-and-read-a-thon-12046
END:VEVENT

END:VCALENDAR
