BEGIN:VCALENDAR
VERSION:2.0
PRODID:-//ChamberMaster//Event Calendar 2.0//EN
METHOD:PUBLISH
X-PUBLISHED-TTL:P3D
REFRESH-INTERVAL:P3D
CALSCALE:GREGORIAN
BEGIN:VEVENT
DTSTART:20180618T180000Z
DTEND:20180618T193000Z
X-MICROSOFT-CDO-ALLDAYEVENT:FALSE
SUMMARY:Rocked It! Pinterest Challenge
DESCRIPTION:Pinterest perfection or crafting rejection? Try your hand at re-creating popular online projects. Not crafty? That's okay- the fun is in the process. Rising 7th-12th graders welcome! Sponsored by the Friends of the Library.
X-ALT-DESC;FMTTYPE=text/html:Pinterest perfection or crafting rejection? Try your hand at re-creating popular online projects. Not crafty? That&#39\;s okay- the fun is in the process. Rising 7th-12th graders welcome! Sponsored by the Friends of the Library.
LOCATION:Granville Public Library
UID:e.180.12009
SEQUENCE:3
DTSTAMP:20260419T152906Z
URL:http://business.granvilleoh.com/events/details/rocked-it-pinterest-challenge-12009
END:VEVENT

END:VCALENDAR
