BEGIN:VCALENDAR
VERSION:2.0
PRODID:-//ChamberMaster//Event Calendar 2.0//EN
METHOD:PUBLISH
X-PUBLISHED-TTL:P3D
REFRESH-INTERVAL:P3D
CALSCALE:GREGORIAN
BEGIN:VEVENT
DTSTART:20180616T140000Z
DTEND:20180616T150000Z
X-MICROSOFT-CDO-ALLDAYEVENT:FALSE
SUMMARY:Saturday Morning Jam Session
DESCRIPTION:Little ones can experiment with making different sounds using drums\, bells\, maracas\, and more. 18 mos. to 5 years
X-ALT-DESC;FMTTYPE=text/html:Little ones can experiment with making different sounds using drums\, bells\, maracas\, and more. 18 mos. to 5 years
LOCATION:Granville Public Library
UID:e.180.12001
SEQUENCE:3
DTSTAMP:20260419T153125Z
URL:http://business.granvilleoh.com/events/details/saturday-morning-jam-session-12001
END:VEVENT

END:VCALENDAR
