BEGIN:VCALENDAR
VERSION:2.0
PRODID:-//ChamberMaster//Event Calendar 2.0//EN
METHOD:PUBLISH
X-PUBLISHED-TTL:P3D
REFRESH-INTERVAL:P3D
CALSCALE:GREGORIAN
BEGIN:VEVENT
DTSTART:20190511T133000Z
DTEND:20190511T140000Z
X-MICROSOFT-CDO-ALLDAYEVENT:FALSE
SUMMARY:Saturday Sprouts
DESCRIPTION:Monthly storytime for toddlers and preschoolers at Granville's Farmer's Market in front of the Methodist Church. Occurs every second Saturday through October.
X-ALT-DESC;FMTTYPE=text/html:Monthly storytime for toddlers and preschoolers at Granville&#39\;s Farmer&#39\;s Market in front of the Methodist Church. Occurs every second Saturday through October.
LOCATION:Granville Farmer's Market\, steps of Centenary United Methodist Church
UID:e.180.12627
SEQUENCE:3
DTSTAMP:20260420T064318Z
URL:http://business.granvilleoh.com/events/details/saturday-sprouts-05-11-2019-12627
END:VEVENT

END:VCALENDAR
