BEGIN:VCALENDAR
VERSION:2.0
PRODID:-//ChamberMaster//Event Calendar 2.0//EN
METHOD:PUBLISH
X-PUBLISHED-TTL:P3D
REFRESH-INTERVAL:P3D
CALSCALE:GREGORIAN
BEGIN:VEVENT
DTSTART:20190608T133000Z
DTEND:20190608T140000Z
X-MICROSOFT-CDO-ALLDAYEVENT:FALSE
SUMMARY:Saturday Sprouts
DESCRIPTION:Join the library on the second Saturday of each month for a storytime for toddlers and preschoolers at Granville's Farmer's Market in front of the Methodist Church. Occurs through October.
X-ALT-DESC;FMTTYPE=text/html:Join the library on the second Saturday of each month for a storytime for toddlers and preschoolers at Granville&#39\;s Farmer&#39\;s Market in front of the Methodist Church. Occurs through October.
LOCATION:Granville Farmer's Market
UID:e.180.12651
SEQUENCE:3
DTSTAMP:20260420T081530Z
URL:http://business.granvilleoh.com/events/details/saturday-sprouts-06-08-2019-12651
END:VEVENT

END:VCALENDAR
