BEGIN:VCALENDAR
VERSION:2.0
PRODID:-//ChamberMaster//Event Calendar 2.0//EN
METHOD:PUBLISH
X-PUBLISHED-TTL:P3D
REFRESH-INTERVAL:P3D
CALSCALE:GREGORIAN
BEGIN:VEVENT
DTSTART:20190713T133000Z
DTEND:20190713T135000Z
X-MICROSOFT-CDO-ALLDAYEVENT:FALSE
SUMMARY:Saturday Sprouts
DESCRIPTION:Join us on the second Saturday of each month for a storytime for toddlers and preschoolers at Granville's Farmer's Market in front of the Methodist Church. Occurs through October.
X-ALT-DESC;FMTTYPE=text/html:Join us on the second Saturday of each month for a storytime for toddlers and preschoolers at Granville&#39\;s Farmer&#39\;s Market in front of the Methodist Church. Occurs through October.
LOCATION:Centenary United Methodist Church lawn
UID:e.180.12719
SEQUENCE:3
DTSTAMP:20260422T085111Z
URL:http://business.granvilleoh.com/events/details/saturday-sprouts-07-13-2019-12719
END:VEVENT

END:VCALENDAR
