BEGIN:VCALENDAR
VERSION:2.0
PRODID:-//ChamberMaster//Event Calendar 2.0//EN
METHOD:PUBLISH
X-PUBLISHED-TTL:P3D
REFRESH-INTERVAL:P3D
CALSCALE:GREGORIAN
BEGIN:VEVENT
DTSTART:20180811T133000Z
DTEND:20180811T140000Z
X-MICROSOFT-CDO-ALLDAYEVENT:FALSE
SUMMARY:Saturday Sprouts
DESCRIPTION:Monthly storytime for toddlers and preschoolers at Granville's Farmer's Market in front of the Methodist Church. Occurs every second Saturday through October. August 11 September 8 October 13
X-ALT-DESC;FMTTYPE=text/html:Monthly storytime for toddlers and preschoolers at Granville&#39\;s Farmer&#39\;s Market in front of the Methodist Church. Occurs every second Saturday through October. August 11 September 8 October 13
LOCATION:Granville Farmer's Market hosted by the Granville Public Library
UID:e.180.12081
SEQUENCE:3
DTSTAMP:20260419T182048Z
URL:http://business.granvilleoh.com/events/details/saturday-sprouts-08-11-2018-12081
END:VEVENT

END:VCALENDAR
