BEGIN:VCALENDAR
VERSION:2.0
PRODID:-//ChamberMaster//Event Calendar 2.0//EN
METHOD:PUBLISH
X-PUBLISHED-TTL:P3D
REFRESH-INTERVAL:P3D
CALSCALE:GREGORIAN
BEGIN:VEVENT
DTSTART:20181013T133000Z
DTEND:20181013T140000Z
X-MICROSOFT-CDO-ALLDAYEVENT:FALSE
SUMMARY:Saturday Sprouts
DESCRIPTION:Monthly storytime for toddlers and preschoolers at Granville's Farmer's Market in front of the Methodist Church. Occurs every second Saturday through October.
X-ALT-DESC;FMTTYPE=text/html:Monthly storytime for toddlers and preschoolers at Granville&#39\;s Farmer&#39\;s Market in front of the Methodist Church. Occurs every second Saturday through October.
LOCATION:Granville Farmer's Market
UID:e.180.12134
SEQUENCE:3
DTSTAMP:20260419T210257Z
URL:http://business.granvilleoh.com/events/details/saturday-sprouts-10-13-2018-12134
END:VEVENT

END:VCALENDAR
