BEGIN:VCALENDAR
VERSION:2.0
PRODID:-//ChamberMaster//Event Calendar 2.0//EN
METHOD:PUBLISH
X-PUBLISHED-TTL:P3D
REFRESH-INTERVAL:P3D
CALSCALE:GREGORIAN
BEGIN:VEVENT
DTSTART:20190712T200000Z
DTEND:20190712T203000Z
X-MICROSOFT-CDO-ALLDAYEVENT:FALSE
SUMMARY:SciDome @ The Works
DESCRIPTION:Join us at The Works new SciDome to see "Undiscovered Worlds". Granville Library cardholders can pick up free tickets at the Children's or Reference Desk beginning Friday\, June 28. Need a library card? Sign up at the main desk. Tickets will be distributed on a first come\, first serve basis. Admission to the museum is not included. Please limit ticket requests to immediate family.
X-ALT-DESC;FMTTYPE=text/html:Join us at The Works new SciDome to see &quot\;Undiscovered Worlds&quot\;. Granville Library cardholders can pick up free tickets at the Children&#39\;s or Reference Desk beginning Friday\, June 28. Need a library card? Sign up at the main desk. Tickets will be distributed on a first come\, first serve basis. Admission to the museum is not included. Please limit ticket requests to immediate family.
LOCATION:The Works\, 55 S. 1st St\, Newark Ticket pick-up at Granville Public Library
UID:e.180.12718
SEQUENCE:3
DTSTAMP:20260422T102605Z
URL:http://business.granvilleoh.com/events/details/scidome-the-works-12718
END:VEVENT

END:VCALENDAR
