BEGIN:VCALENDAR
VERSION:2.0
PRODID:-//ChamberMaster//Event Calendar 2.0//EN
METHOD:PUBLISH
X-PUBLISHED-TTL:P3D
REFRESH-INTERVAL:P3D
CALSCALE:GREGORIAN
BEGIN:VEVENT
DTSTART:20190607T140000Z
DTEND:20190607T150000Z
X-MICROSOFT-CDO-ALLDAYEVENT:FALSE
SUMMARY:SciDome @ the Works: Constellations in the Sky
DESCRIPTION:Join GPL for a visit to The Works to experience a show in their new SciDome and seeing "Constellations in the Sky". Granville Library cardholders can pick up free tickets in the Children's Department or Reference Desk beginning Friday\, May 24. Need a library card? Sign up at the main desk. Tickets will be distributed on a first come\, first serve basis. Admission to the museum is not included. Please limit ticket requests to immediate family.
X-ALT-DESC;FMTTYPE=text/html:Join GPL for a visit to The Works to experience a show in their new SciDome and seeing &quot\;Constellations in the Sky&quot\;. Granville Library cardholders can pick up free tickets in the Children&#39\;s Department or Reference Desk beginning Friday\, May 24. Need a library card? Sign up at the main desk. Tickets will be distributed on a first come\, first serve basis. Admission to the museum is not included. Please limit ticket requests to immediate family.
LOCATION:The Works\, 55 S. First St\, Newark\, OH 43055 Part of the Granville Public Library Universe of Stories Summer Library Program
UID:e.180.12649
SEQUENCE:3
DTSTAMP:20260420T081841Z
URL:http://business.granvilleoh.com/events/details/scidome-the-works-constellations-in-the-sky-12649
END:VEVENT

END:VCALENDAR
