BEGIN:VCALENDAR
VERSION:2.0
PRODID:-//ChamberMaster//Event Calendar 2.0//EN
METHOD:PUBLISH
X-PUBLISHED-TTL:P3D
REFRESH-INTERVAL:P3D
CALSCALE:GREGORIAN
BEGIN:VEVENT
DTSTART:20190913T130000Z
DTEND:20190913T210000Z
X-MICROSOFT-CDO-ALLDAYEVENT:FALSE
SUMMARY:Second Annual Ride and Drive Event
DESCRIPTION:Denison partners with Smart Columbus to host the second annual Ride and Drive event around campus.\nAre you interested in getting a chance to drive a Tesla? Nissan Leaf? Kia Niro?  There will be a number of different electric and plug-in electric vehicles on campus and you'll get the opportunity to get behind the wheel for a test drive.\n\nThis event is free and there's No SALES PITCH.  Driving slots are limited so don't delay and register now to ensure your 30-minute slot. Get behind the wheel and explore the future of transportation.
X-ALT-DESC;FMTTYPE=text/html:<span style="background-color:transparent\; color:rgb(0\, 0\, 0)\; font-family:arial\; font-size:11pt">Denison partners with Smart Columbus to host the second annual Ride and Drive event around campus.</span>\n<p><span style="background-color:transparent\; color:rgb(0\, 0\, 0)\; font-family:arial\; font-size:11pt">Are you interested in getting a chance to drive a Tesla? Nissan Leaf? Kia Niro?&nbsp\; There will be a number of different electric and plug-in electric vehicles on campus and you&#39\;ll get the opportunity to get behind the wheel for a test drive.</span></p>\n\n<p><span style="background-color:transparent\; color:rgb(0\, 0\, 0)\; font-family:arial\; font-size:11pt">This event is free and there&#39\;s No SALES PITCH.&nbsp\; Driving slots are limited so don&#39\;t delay and register now to ensure your 30-minute slot. Get behind the wheel and explore the future of transportation.</span></p>\n\n<div>&nbsp\;</div>\n
LOCATION:Denison Campus
UID:e.180.12803
SEQUENCE:3
DTSTAMP:20260422T115308Z
URL:http://business.granvilleoh.com/events/details/second-annual-ride-and-drive-event-12803
END:VEVENT

END:VCALENDAR
