BEGIN:VCALENDAR
VERSION:2.0
PRODID:-//ChamberMaster//Event Calendar 2.0//EN
METHOD:PUBLISH
X-PUBLISHED-TTL:P3D
REFRESH-INTERVAL:P3D
CALSCALE:GREGORIAN
BEGIN:VEVENT
DTSTART:20191003T230000Z
DTEND:20191004T000000Z
X-MICROSOFT-CDO-ALLDAYEVENT:FALSE
SUMMARY:Show Me the $$$: College Planning
DESCRIPTION:For families who will NOT qualify for much financial aid\, do not miss this! Amber Gilsdorf will provide valuable tips on how to search for scholarships\, leverage your student's academic profile when applying\, and how to understand a college's net price. Each student is unique and so is every family's financial situation. This strategizing session will map out a timeline for you (and your student) to prepare financially. Students are encouraged to attend with their parents.
X-ALT-DESC;FMTTYPE=text/html:For families who will NOT qualify for much financial aid\, do not miss this! Amber Gilsdorf will provide valuable tips on how to search for scholarships\, leverage your student&#39\;s academic profile when applying\, and how to understand a college&#39\;s net price. Each student is unique and so is every family&#39\;s financial situation. This strategizing session will map out a timeline for you (and your student) to prepare financially. Students are encouraged to attend with their parents.
LOCATION:Granville Public Library
UID:e.180.12799
SEQUENCE:3
DTSTAMP:20260422T131659Z
URL:http://business.granvilleoh.com/events/details/show-me-the-college-planning-12799
END:VEVENT

END:VCALENDAR
