BEGIN:VCALENDAR
VERSION:2.0
PRODID:-//ChamberMaster//Event Calendar 2.0//EN
METHOD:PUBLISH
X-PUBLISHED-TTL:P3D
REFRESH-INTERVAL:P3D
CALSCALE:GREGORIAN
BEGIN:VEVENT
DTSTART:20180713T230000Z
DTEND:20180714T020000Z
X-MICROSOFT-CDO-ALLDAYEVENT:FALSE
SUMMARY:Sing-A-Long Movie Night: Moana
DESCRIPTION:Does no one know how far your love of the Moana song goes? Now's your chance to sing-a-long during this showing of Moana! What can we say\, but you're welcome! Pick up your tickets at the Children's Desk or the Reference Desk in the teen area beginning July 2. Herrick Hall\, Denison University All ages who want to sing-a-long are welcome!
X-ALT-DESC;FMTTYPE=text/html:Does no one know how far your love of the Moana song goes? Now&#39\;s your chance to sing-a-long during this showing of Moana! What can we say\, but you&#39\;re welcome! Pick up your tickets at the Children&#39\;s Desk or the Reference Desk in the teen area beginning July 2. Herrick Hall\, Denison University All ages who want to sing-a-long are welcome!
LOCATION:Granville Public Library
UID:e.180.12049
SEQUENCE:3
DTSTAMP:20260419T171021Z
URL:http://business.granvilleoh.com/events/details/sing-a-long-movie-night-moana-12049
END:VEVENT

END:VCALENDAR
