BEGIN:VCALENDAR
VERSION:2.0
PRODID:-//ChamberMaster//Event Calendar 2.0//EN
METHOD:PUBLISH
X-PUBLISHED-TTL:P3D
REFRESH-INTERVAL:P3D
CALSCALE:GREGORIAN
BEGIN:VEVENT
DTSTART:20180622T230000Z
DTEND:20180623T010000Z
X-MICROSOFT-CDO-ALLDAYEVENT:FALSE
SUMMARY:Sing-A-Long Movie Night: The Muppet Movie
DESCRIPTION:This movie will be shown at Denison University in Herrick Hall. The Muppets made their first big-screen appearance in this 1979 movie with Kermit and the gang singing their way to Hollywood. Popcorn provided. Everyone is welcome to attend. Pick up your tickets in advance at the Children's desk or at the Reference Desk in the teen area beginning June 11.
X-ALT-DESC;FMTTYPE=text/html:This movie will be shown at Denison University in Herrick Hall. The Muppets made their first big-screen appearance in this 1979 movie with Kermit and the gang singing their way to Hollywood. Popcorn provided. Everyone is welcome to attend. Pick up your tickets in advance at the Children&#39\;s desk or at the Reference Desk in the teen area beginning June 11.
LOCATION:Herrick Hall\, Denison University
UID:e.180.12020
SEQUENCE:3
DTSTAMP:20260419T153527Z
URL:http://business.granvilleoh.com/events/details/sing-a-long-movie-night-the-muppet-movie-12020
END:VEVENT

END:VCALENDAR
