BEGIN:VCALENDAR
VERSION:2.0
PRODID:-//ChamberMaster//Event Calendar 2.0//EN
METHOD:PUBLISH
X-PUBLISHED-TTL:P3D
REFRESH-INTERVAL:P3D
CALSCALE:GREGORIAN
BEGIN:VEVENT
DTSTART:20191117T200000Z
DTEND:20191117T210000Z
X-MICROSOFT-CDO-ALLDAYEVENT:FALSE
SUMMARY:Wind Ensemble Concert with guest artist Igor Lovchinsky
DESCRIPTION:Denison University's Wind Ensemble presents a concert\, directed by Chris Westover\, featuring pianist Igor Lovchinsky. The first four notes of Beethoven's Fifth Symphony have echoed through every musical genre since it's premiere over 200 years ago.\n\nLed by Westover\, the Denison University Wind Ensemble presents a concert featuring Beethoven's four famous notes and music they inspired by Ives and Bernstein. The program also features Mellon guest artist Igor Lovchinsky in a performance of HyeKyung Lee's Piano.
X-ALT-DESC;FMTTYPE=text/html:<p><span style="background-color:transparent\; color:rgb(0\, 0\, 0)\; font-family:arial\; font-size:11pt">Denison University&#39\;s Wind Ensemble presents a concert\, directed by Chris Westover\, featuring pianist Igor Lovchinsky. The first four notes of Beethoven&#39\;s Fifth Symphony have echoed through every musical genre since it&#39\;s premiere over 200 years ago.</span></p>\n\n<p><span style="background-color:transparent\; color:rgb(0\, 0\, 0)\; font-family:arial\; font-size:11pt">Led by Westover\, the Denison University Wind Ensemble presents a concert featuring Beethoven&#39\;s four famous notes and music they inspired by Ives and Bernstein. The program also features Mellon guest artist Igor Lovchinsky in a performance of HyeKyung Lee&#39\;s Piano.</span></p>\n\n<div>&nbsp\;</div>\n\n<div>&nbsp\;</div>\n
LOCATION:Denison University Michael D. Eisner Center for the Performing Arts Sharon Martin Hall 240 W. Broadway
UID:e.180.12809
SEQUENCE:3
DTSTAMP:20260422T144251Z
URL:http://business.granvilleoh.com/events/details/singer-s-theatre-workshop-big-red-revue-12809
END:VEVENT

END:VCALENDAR
