BEGIN:VCALENDAR
VERSION:2.0
PRODID:-//ChamberMaster//Event Calendar 2.0//EN
METHOD:PUBLISH
X-PUBLISHED-TTL:P3D
REFRESH-INTERVAL:P3D
CALSCALE:GREGORIAN
BEGIN:VEVENT
DTSTART:20191208T003000Z
DTEND:20191208T020000Z
X-MICROSOFT-CDO-ALLDAYEVENT:FALSE
SUMMARY:Singer's Theatre Workshop: 'The Pirates of Penzance'
DESCRIPTION:The Department of Music presents a Singer's Theatre Workshop production of Gilbert and Sullivan's "The Pirates of Penzance\," directed by Belinda Andrews-Smith.\nThe show is appropriate for all ages and features lovely maidens\, Major-Generals\, bobbies\, and of course\, pirates! You will love this hilarious comedy romp through Penzance and will leave humming all the catchy tunes.
X-ALT-DESC;FMTTYPE=text/html:<span style="background-color:transparent\; color:rgb(0\, 0\, 0)\; font-family:arial\; font-size:11pt">The Department of Music presents a Singer&#39\;s Theatre Workshop production of Gilbert and Sullivan&#39\;s &quot\;The Pirates of Penzance\,&quot\; directed by Belinda Andrews-Smith.</span>\n<p><span style="background-color:transparent\; color:rgb(0\, 0\, 0)\; font-family:arial\; font-size:11pt">The show is appropriate for all ages and features lovely maidens\, Major-Generals\, bobbies\, and of course\, pirates! You will love this hilarious comedy romp through Penzance and will leave humming all the catchy tunes.</span></p>\n\n<div>&nbsp\;</div>\n
LOCATION:Denison University Sharon Martin Hall of the Michael D. Eisner Center for the Performing Arts 240 West Broadway
UID:e.180.13947
SEQUENCE:3
DTSTAMP:20260422T161422Z
URL:http://business.granvilleoh.com/events/details/singer-s-theatre-workshop-the-pirates-of-penzance-12-07-2019-13947
END:VEVENT

END:VCALENDAR
