BEGIN:VCALENDAR
VERSION:2.0
PRODID:-//ChamberMaster//Event Calendar 2.0//EN
METHOD:PUBLISH
X-PUBLISHED-TTL:P3D
REFRESH-INTERVAL:P3D
CALSCALE:GREGORIAN
BEGIN:VEVENT
DTSTART:20190522T163000Z
DTEND:20190522T173000Z
X-MICROSOFT-CDO-ALLDAYEVENT:FALSE
SUMMARY:Small Business Book Club
DESCRIPTION:Join us at the Creative COOP\, 119 W Broadway. to discuss "Ask the Manager" by Alison Green. Bring your lunch and join us for this book discussion with a small business focus. Copies are available at the library's main desk.
X-ALT-DESC;FMTTYPE=text/html:Join us at the Creative COOP\, 119 W Broadway. to discuss &quot\;Ask the Manager&quot\; by Alison Green. Bring your lunch and join us for this book discussion with a small business focus. Copies are available at the library&#39\;s main desk.
LOCATION:Creative COOP\, 119 W Broadway\, copies of the book available at the Granville Public Library
UID:e.180.12604
SEQUENCE:3
DTSTAMP:20260420T065203Z
URL:http://business.granvilleoh.com/events/details/small-business-book-club-05-22-2019-12604
END:VEVENT

END:VCALENDAR
