BEGIN:VCALENDAR
VERSION:2.0
PRODID:-//ChamberMaster//Event Calendar 2.0//EN
METHOD:PUBLISH
X-PUBLISHED-TTL:P3D
REFRESH-INTERVAL:P3D
CALSCALE:GREGORIAN
BEGIN:VEVENT
DTSTART:20190327T163000Z
DTEND:20190327T173000Z
X-MICROSOFT-CDO-ALLDAYEVENT:FALSE
SUMMARY:Small Business Book Club
DESCRIPTION:Join us at the Creative COOP\, 115 W Broadway. to discuss "Rising Strong: How the Ability to Reset Transforms the Way We Live\, Love\, Parent\, and Lead" by Brene Brown. Bring your lunch and join us for this book discussion with a small business focus. Copies are available at the library's main desk.
X-ALT-DESC;FMTTYPE=text/html:Join us at the Creative COOP\, 115 W Broadway. to discuss &quot\;Rising Strong: How the Ability to Reset Transforms the Way We Live\, Love\, Parent\, and Lead&quot\; by Brene Brown. Bring your lunch and join us for this book discussion with a small business focus. Copies are available at the library&#39\;s main desk.
LOCATION:Creative COOP
UID:e.180.12512
SEQUENCE:3
DTSTAMP:20260420T051101Z
URL:http://business.granvilleoh.com/events/details/small-business-book-club-12512
END:VEVENT

END:VCALENDAR
