BEGIN:VCALENDAR
VERSION:2.0
PRODID:-//ChamberMaster//Event Calendar 2.0//EN
METHOD:PUBLISH
X-PUBLISHED-TTL:P3D
REFRESH-INTERVAL:P3D
CALSCALE:GREGORIAN
BEGIN:VEVENT
DTSTART:20180911T133000Z
DTEND:20180911T143000Z
X-MICROSOFT-CDO-ALLDAYEVENT:FALSE
SUMMARY:Social Media Pro Tips With a Side of Coffee - Better Pics With Your Phone
DESCRIPTION:This month\, with your feedback from the last months' workshops\, COOP professional photographer and social media marketing whiz\, Chad DiBlasio\, will give you advice on how to take the best pics for your social media posts and promotions. Content\, composition and relevance will be discussed.\n\nOn the Second Tuesday of each month we take a look at social media - Instagram\, Facebook\, Linkedin\, Google Business - and dig in hands-on! Learn to use these platforms to begin promoting your business in a relevant\, effective way\, that also works for you and your abilities. Our team here at the COOP bring their knowledge to share for each FREE\, one hour session\n\n\n\nBrought to you in collaboration with the Granville Area Chamber of Commerce.
X-ALT-DESC;FMTTYPE=text/html:<p style="font-family: proxima-nova\; font-size: 15px\; line-height: 1.6em\; letter-spacing: 0.3px\; margin: 0px 0px 24px\; word-wrap: break-word\; color: rgb(68\, 68\, 68)\; background-color: rgb(255\, 255\, 255)\;">This month\, with your feedback from the last months&#39\; workshops\, COOP professional photographer and social media marketing whiz\, Chad DiBlasio\, will give you advice on how to take the best pics for your social media posts and promotions. Content\, composition and relevance will be discussed.</p>\n\n<p style="font-family: proxima-nova\; font-size: 15px\; line-height: 1.6em\; letter-spacing: 0.3px\; margin: 24px 0px\; word-wrap: break-word\; color: rgb(68\, 68\, 68)\; background-color: rgb(255\, 255\, 255)\;">On the Second Tuesday of each month we take a look at social media - Instagram\, Facebook\, Linkedin\, Google Business - and dig in hands-on! Learn to use these platforms to begin promoting your business in a relevant\, effective way\, that also works for you and your abilities. Our team here at the COOP bring their knowledge to share for each FREE\, one hour session<br />\n<br />\nBrought to you in collaboration with the Granville Area Chamber of Commerce.</p>\n\n<div class="absolute-cart-box" id="yui_3_17_2_1_1536245559929_121" style="position: fixed\; top: 65px\; right: 11px\; z-index: 15000\; color: rgb(68\, 68\, 68)\; font-family: proxima-nova\; font-size: 15px\; letter-spacing: 0.3px\;">&nbsp\;</div>\n\n<div id="PopupSignupForm_0" style="color: rgb(68\, 68\, 68)\; font-family: proxima-nova\; font-size: 15px\; letter-spacing: 0.3px\;" widgetid="PopupSignupForm_0">\n<div class="mc-banner" data-dojo-attach-point="bannerContainer" style="visibility: hidden\; z-index: 9998\; box-shadow: rgba(0\, 0\, 0\, 0.2) 0px 3px 6px\; background-color: rgb(255\, 255\, 255)\; width: 1350px\; position: fixed\; top: 0px\; left: 0px\;">\n<div class="mc-layout__bannerContent"><iframe data-dojo-attach-point="iframeBannerContainer" frameborder="0" marginheight="0" marginwidth="0" scrolling="no" src="about:blank" style="width: 1350px\; height: 24px\;"></iframe></div>\n</div>\n\n<div class="mc-closeModal" data-action="close-mc-modal" data-dojo-attach-point="modalClose" style="width: 30px\; height: 30px\; background-color: rgb(255\, 255\, 255)\; border-radius: 100%\; box-shadow: rgba(0\, 0\, 0\, 0.2) 0px 2px 2px 0px\; cursor: pointer\; position: absolute\; right: -10px\; top: -10px\; z-index: 2\; box-sizing: border-box\;">&nbsp\;</div>\n\n<div class="mc-layout__modalContent" style="height: 480px\; box-shadow: rgba(0\, 0\, 0\, 0.2) 0px 2px 4px 0px\; background: rgb(255\, 255\, 255)\; border-radius: 6px\; overflow: hidden auto\; position: relative\; box-sizing: border-box\; max-height: 638px\;">&nbsp\;</div>\n</div>\n
LOCATION:creative COOP - Meeting Space119 West Broadway Granville OH 43023
UID:e.180.12143
SEQUENCE:3
DTSTAMP:20260419T193555Z
URL:http://business.granvilleoh.com/events/details/social-media-pro-tips-with-a-side-of-coffee-better-pics-with-your-phone-12143
END:VEVENT

END:VCALENDAR
