BEGIN:VCALENDAR
VERSION:2.0
PRODID:-//ChamberMaster//Event Calendar 2.0//EN
METHOD:PUBLISH
X-PUBLISHED-TTL:P3D
REFRESH-INTERVAL:P3D
CALSCALE:GREGORIAN
BEGIN:VEVENT
DTSTART:20180628T140000Z
DTEND:20180628T150000Z
X-MICROSOFT-CDO-ALLDAYEVENT:FALSE
SUMMARY:Sounds of Science
DESCRIPTION:Explore music with the Armstrong Air & Space Museum through the use of Boomwhackers\, which use different lengths of tubes to display different notes of music. Kids will be placed in groups to explore\, tinker\, and create their own music to share. Rising Grades K to 6.
X-ALT-DESC;FMTTYPE=text/html:Explore music with the Armstrong Air &amp\; Space Museum through the use of Boomwhackers\, which use different lengths of tubes to display different notes of music. Kids will be placed in groups to explore\, tinker\, and create their own music to share. Rising Grades K to 6.
LOCATION:Granville Public Library
UID:e.180.12030
SEQUENCE:3
DTSTAMP:20260419T153152Z
URL:http://business.granvilleoh.com/events/details/sounds-of-science-12030
END:VEVENT

END:VCALENDAR
