BEGIN:VCALENDAR
VERSION:2.0
PRODID:-//ChamberMaster//Event Calendar 2.0//EN
METHOD:PUBLISH
X-PUBLISHED-TTL:P3D
REFRESH-INTERVAL:P3D
CALSCALE:GREGORIAN
BEGIN:VEVENT
DTSTART:20190621T220000Z
DTEND:20190621T233000Z
X-MICROSOFT-CDO-ALLDAYEVENT:FALSE
SUMMARY:Space Race: Crossword Puzzle Race
DESCRIPTION:You and your team race to be the first to complete a giant crossword puzzle. Bring a team or join a one at the event. Prizes! Grades 7 - Adult
X-ALT-DESC;FMTTYPE=text/html:You and your team race to be the first to complete a giant crossword puzzle. Bring a team or join a one at the event. Prizes! Grades 7 - Adult
LOCATION:Granville Public Library
UID:e.180.12683
SEQUENCE:3
DTSTAMP:20260422T091643Z
URL:http://business.granvilleoh.com/events/details/space-race-crossword-puzzle-race-12683
END:VEVENT

END:VCALENDAR
