BEGIN:VCALENDAR
VERSION:2.0
PRODID:-//ChamberMaster//Event Calendar 2.0//EN
METHOD:PUBLISH
X-PUBLISHED-TTL:P3D
REFRESH-INTERVAL:P3D
CALSCALE:GREGORIAN
BEGIN:VEVENT
DTSTART:20180926T210000Z
DTEND:20180927T000000Z
X-MICROSOFT-CDO-ALLDAYEVENT:FALSE
SUMMARY:Special Business After Hours at the Winery - Bring a Prospective Member!
DESCRIPTION:We're pulling out all the stops (corks?) for this special Business After Hours Networking gathering at Autumn Rush Vineyard in nearby Johnstown\, Ohio.  Come join fellow Chamber members and guests for a pleasant evening of conversation as well as the Winery's own locally grown and produced wines available to us on this occasion at their Happy Hour prices.  The SteamRoller Bagel Food Truck will be onsite as well with their unique menu items available for purchase.  As an extra incentive to join us this evening we are promoting this as a "Bring a Prospective Chamber Member as Your Guest" evening.  If your guest's name is drawn from a hat on this evening both your guest and yourself will win a special prize!  Come join us for this special occasion!
X-ALT-DESC;FMTTYPE=text/html:We&#39\;re pulling out all the stops (corks?) for this special Business After Hours Networking gathering at Autumn Rush Vineyard in nearby Johnstown\, Ohio.&nbsp\; Come join fellow Chamber members and guests for a pleasant evening of conversation as well as the Winery&#39\;s own locally grown and produced wines available to us on this occasion at their Happy Hour prices.&nbsp\; The SteamRoller Bagel Food Truck will be onsite as well with their unique menu items available for purchase.&nbsp\; <strong>As an extra incentive to join us this evening we are promoting this as a &quot\;Bring a Prospective Chamber Member as Your Guest&quot\; evening.&nbsp\;&nbsp\;</strong>If your guest&#39\;s name is drawn from a hat on this evening both your guest and yourself will win a special prize!&nbsp\; Come join us for this special occasion!
LOCATION:Autumn Rush Vineyard 5686 Dutch Lane Road (just East of Northridge Road) Johnstown\, OH 43031
UID:e.180.12129
SEQUENCE:3
DTSTAMP:20260419T193553Z
URL:http://business.granvilleoh.com/events/details/special-business-after-hours-at-the-winery-bring-a-prospective-member-12129
END:VEVENT

END:VCALENDAR
