BEGIN:VCALENDAR
VERSION:2.0
PRODID:-//ChamberMaster//Event Calendar 2.0//EN
METHOD:PUBLISH
X-PUBLISHED-TTL:P3D
REFRESH-INTERVAL:P3D
CALSCALE:GREGORIAN
BEGIN:VEVENT
DTSTART:20191001T210000Z
DTEND:20191001T230000Z
X-MICROSOFT-CDO-ALLDAYEVENT:FALSE
SUMMARY:Special Occasion - Business After Hours and Chamber Open House!
DESCRIPTION:Join us for a very special networking opportunity!  The McPeek-Hoekstra Funeral Home is opening its doors and grounds for a special Business After Hours "Wake" which is sure to be an eye-opener.  After all...have you ever been to a funeral home for anything other than a funeral?  Now's your chance!  and\, coincidentally\, the Chamber's new office space is just a half block away so we will also throw open our office door for a chance to check out our new "digs" as well.  Join us for this special After Hours Networking Two-fer!
X-ALT-DESC;FMTTYPE=text/html:Join us for a very special networking opportunity!&nbsp\; The McPeek-Hoekstra Funeral Home is opening its doors and grounds for a special Business After Hours &quot\;Wake&quot\; which is sure to be an eye-opener.&nbsp\; After all...have you ever been to a funeral home for anything other than a funeral?&nbsp\; Now&#39\;s your chance!&nbsp\; and\, coincidentally\, the Chamber&#39\;s new office space is just a half block away so we will also throw open our office door for a chance to check out our new &quot\;digs&quot\; as well.&nbsp\; Join us for this special After Hours Networking Two-fer!
LOCATION:McPeek - Hoekstra Funeral Home 133 S. Prospect Street - and - Granville Area Chamber of Commerce 110 East Elm Street\, Suite D
UID:e.180.12849
SEQUENCE:3
DTSTAMP:20260422T131830Z
URL:http://business.granvilleoh.com/events/details/special-occasion-business-after-hours-and-chamber-open-house-12849
END:VEVENT

END:VCALENDAR
